BEGIN:VCALENDAR
VERSION:2.0
PRODID:-//Plone.org//NONSGML plone.app.event//EN
X-WR-TIMEZONE:Europe/Madrid
BEGIN:VEVENT
SUMMARY:Festival Poesia i +
DTSTART;TZID=Europe/Madrid;VALUE=DATE-TIME:20150708T200000
DTEND;TZID=Europe/Madrid;VALUE=DATE-TIME:20150708T210000
DTSTAMP;VALUE=DATE-TIME:20260422T204205Z
UID:40efe4189a7dd3ee0b976a170a02ae5c
CREATED;VALUE=DATE-TIME:20150708T000000Z
CATEGORIES:Música
LOCATION:Jardins de Can Caralt- Sant Andreu de Llavaneres
ORGANIZER:Fundació Palau i Ajuntament de Sant Andreu de Llavaneres
COMMENT:Preu: Gratuït
DESCRIPTION:Àlvar Roda
URL:https://caldetes.cat/document.php?id=3926
END:VEVENT
END:VCALENDAR