BEGIN:VCALENDAR
VERSION:2.0
PRODID:-//Plone.org//NONSGML plone.app.event//EN
X-WR-TIMEZONE:Europe/Madrid
BEGIN:VEVENT
SUMMARY:Festival Poesia i + -UD es un MONSTRUO
DTSTART;TZID=Europe/Madrid;VALUE=DATE-TIME:20150710T200000
DTEND;TZID=Europe/Madrid;VALUE=DATE-TIME:20150710T210000
DTSTAMP;VALUE=DATE-TIME:20260423T062016Z
UID:0f5c8d70ede56605e1352a6d0c5080de
CREATED;VALUE=DATE-TIME:20150710T000000Z
CATEGORIES:Literatura
LOCATION:Fundació Palau
ORGANIZER:Fundació Palau i Ajuntament de Caldes d'Estrac
COMMENT:Preu: Gratuït
DESCRIPTION:Un bestiari poètic d'Usted es un colectivo
URL:https://caldetes.cat/document.php?id=3928
END:VEVENT
END:VCALENDAR