BEGIN:VCALENDAR
VERSION:2.0
PRODID:-//Plone.org//NONSGML plone.app.event//EN
X-WR-TIMEZONE:Europe/Madrid
BEGIN:VEVENT
SUMMARY:Festival Poesia i +
DTSTART;TZID=Europe/Madrid;VALUE=DATE-TIME:20150710T210000
DTEND;TZID=Europe/Madrid;VALUE=DATE-TIME:20150710T220000
DTSTAMP;VALUE=DATE-TIME:20260424T195356Z
UID:ebeb35833e63c888c1c95e7be139f2c0
CREATED;VALUE=DATE-TIME:20150710T000000Z
CATEGORIES:Música
LOCATION:Pèrgola Can Muntanyà
ORGANIZER:Fundació Palau i Ajuntament de Caldes d'Estrac
COMMENT:Preu: 15&euro; (entrada conjunta amb el concert de es 22.30
DESCRIPTION:Maria Rodés
URL:https://caldetes.cat/document.php?id=3929
END:VEVENT
END:VCALENDAR