BEGIN:VCALENDAR
VERSION:2.0
PRODID:-//Plone.org//NONSGML plone.app.event//EN
X-WR-TIMEZONE:Europe/Madrid
BEGIN:VEVENT
SUMMARY:Festival Poesia i + Revetlla poètica
DTSTART;TZID=Europe/Madrid;VALUE=DATE-TIME:20150711T203000
DTEND;TZID=Europe/Madrid;VALUE=DATE-TIME:20150711T213000
DTSTAMP;VALUE=DATE-TIME:20260423T163441Z
UID:674f02c0cc5cdefdd1df548bfe389915
CREATED;VALUE=DATE-TIME:20150711T000000Z
CATEGORIES:Música
LOCATION:Platja de Sant Vicenç de Montalt
ORGANIZER:Fundació Palau i Ajuntament de Sant Vicenç de Montalt
COMMENT:Preu: Gratuït
DESCRIPTION:Per tancar la desena edició del festival, proposem una nit festiva i intensa a la platja, amb menjada de sardines inclosa, organitzada per l´Associació de Pescadors de Caldes d´Estrac i el Club Nàutic Caldes d´Estrac.
URL:https://caldetes.cat/document.php?id=3931
END:VEVENT
END:VCALENDAR