BEGIN:VCALENDAR
VERSION:2.0
PRODID:-//Plone.org//NONSGML plone.app.event//EN
X-WR-TIMEZONE:Europe/Madrid
BEGIN:VEVENT
SUMMARY:Festival de Santa Florentina
DTSTART;TZID=Europe/Madrid;VALUE=DATE-TIME:20150711T220000
DTEND;TZID=Europe/Madrid;VALUE=DATE-TIME:20150711T230000
DTSTAMP;VALUE=DATE-TIME:20260425T182839Z
UID:eddcfc60af4a478bcc08e2e00e3ec5a1
CREATED;VALUE=DATE-TIME:20150711T000000Z
LOCATION:Parròquia Santa Maria
DESCRIPTION:Recital líric de Katerina Tretyakova & Carlos Cosías & Ricardo Estrada
URL:https://caldetes.cat/document.php?id=3932
END:VEVENT
END:VCALENDAR