BEGIN:VCALENDAR
VERSION:2.0
PRODID:-//Plone.org//NONSGML plone.app.event//EN
X-WR-TIMEZONE:Europe/Madrid
BEGIN:VEVENT
SUMMARY:Festival de Santa Florentina
DTSTART;TZID=Europe/Madrid;VALUE=DATE-TIME:20150716T220000
DTEND;TZID=Europe/Madrid;VALUE=DATE-TIME:20150716T230000
DTSTAMP;VALUE=DATE-TIME:20260423T115926Z
UID:35f4d2651583f41b91b0b1c17d3b0d9c
CREATED;VALUE=DATE-TIME:20150716T000000Z
CATEGORIES:Música
LOCATION:Parròquia Santa Maria
ORGANIZER:Associació Cultural Santa Florentina i Ajuntament de Caldes d'Estrac
COMMENT:Preu: 28 Euros
Durada: El catering començarà a les 20:30h. El concert a les 22h.
DESCRIPTION:Recital de piano de SERGEY BELYAVSKIY
URL:https://caldetes.cat/document.php?id=3933
END:VEVENT
END:VCALENDAR