BEGIN:VCALENDAR
VERSION:2.0
PRODID:-//Plone.org//NONSGML plone.app.event//EN
X-WR-TIMEZONE:Europe/Madrid
BEGIN:VEVENT
SUMMARY:Festival de Santa Florentina
DTSTART;TZID=Europe/Madrid;VALUE=DATE-TIME:20150717T210000
DTEND;TZID=Europe/Madrid;VALUE=DATE-TIME:20150717T220000
DTSTAMP;VALUE=DATE-TIME:20260424T195408Z
UID:ecba4ecaafd89d76c2a6208c3c36576b
CREATED;VALUE=DATE-TIME:20150717T000000Z
CATEGORIES:Música
LOCATION:Parc Mossèn Jacint Verdaguer
ORGANIZER:Associació Cultural Santa Florentina i Ajuntament de Caldes d'Estrac
COMMENT:Preu: 44 Euros
Durada: A partir de les 20h comença el servei de càtering. El concert començarà a les 21h
DESCRIPTION:Òpera Carmen
URL:https://caldetes.cat/document.php?id=3934
END:VEVENT
END:VCALENDAR