BEGIN:VCALENDAR
VERSION:2.0
PRODID:-//Plone.org//NONSGML plone.app.event//EN
X-WR-TIMEZONE:Europe/Madrid
BEGIN:VEVENT
SUMMARY:Festival de Santa Florentina
DTSTART;TZID=Europe/Madrid;VALUE=DATE-TIME:20150725T220000
DTEND;TZID=Europe/Madrid;VALUE=DATE-TIME:20150725T230000
DTSTAMP;VALUE=DATE-TIME:20260424T024237Z
UID:bcfb4f94aa16eb493b63dff6ffa801e6
CREATED;VALUE=DATE-TIME:20150725T000000Z
CATEGORIES:Música
LOCATION:Parc Mossèn Jacint Verdaguer
ORGANIZER:Associació Cultural Santa Florentina i Ajuntament de Caldes d'Estrac
COMMENT:Preu: 33 Euros
Durada: El catering començarà a les 20:30h. El concert a les 22h.
DESCRIPTION:&OpenCurlyDoubleQuote;Elogi a la dansa&CloseCurlyDoubleQuote;
URL:https://caldetes.cat/document.php?id=3937
END:VEVENT
END:VCALENDAR