BEGIN:VCALENDAR
VERSION:2.0
PRODID:-//Plone.org//NONSGML plone.app.event//EN
X-WR-TIMEZONE:Europe/Madrid
BEGIN:VEVENT
SUMMARY:Festival de Santa Florentina
DTSTART;TZID=Europe/Madrid;VALUE=DATE-TIME:20150731T220000
DTEND;TZID=Europe/Madrid;VALUE=DATE-TIME:20150731T230000
DTSTAMP;VALUE=DATE-TIME:20260424T154424Z
UID:e3bda40c67fd0b7975d37ad37bee032b
CREATED;VALUE=DATE-TIME:20150731T000000Z
LOCATION:Parc Mossèn Jacint Verdaguer
ORGANIZER:Associació Cultural Santa Florentina i Ajuntament de Caldes d'Estrac
COMMENT:Preu: 33 Euros
Durada: El catering començarà a les 20:30h. El concert a les 22h.
DESCRIPTION:Orquestra Simfònica Harmonia
URL:https://caldetes.cat/document.php?id=3938
END:VEVENT
END:VCALENDAR