BEGIN:VCALENDAR
VERSION:2.0
PRODID:-//Plone.org//NONSGML plone.app.event//EN
X-WR-TIMEZONE:Europe/Madrid
BEGIN:VEVENT
SUMMARY:Festival de Santa Florentina
DTSTART;TZID=Europe/Madrid;VALUE=DATE-TIME:20150801T220000
DTEND;TZID=Europe/Madrid;VALUE=DATE-TIME:20150801T230000
DTSTAMP;VALUE=DATE-TIME:20260423T002242Z
UID:c5c8a2cf19b5fe3d67caea1fdd95f54e
CREATED;VALUE=DATE-TIME:20150801T000000Z
LOCATION:Esglèsia de Santa Maria
ORGANIZER:Associació Cultural Santa Florentina i Ajuntament de Caldes d'Estrac
COMMENT:Preu: 39 Euros
Durada: A partir de les 20:30h comença el servei de càtering. El concert començarà a les 22h
DESCRIPTION:&OpenCurlyDoubleQuote;Concert americà&CloseCurlyDoubleQuote;
URL:https://caldetes.cat/document.php?id=3940
END:VEVENT
END:VCALENDAR