BEGIN:VCALENDAR
VERSION:2.0
PRODID:-//Plone.org//NONSGML plone.app.event//EN
X-WR-TIMEZONE:Europe/Madrid
BEGIN:VEVENT
SUMMARY:Festival de Santa Florentina
DTSTART;TZID=Europe/Madrid;VALUE=DATE-TIME:20150807T220000
DTEND;TZID=Europe/Madrid;VALUE=DATE-TIME:20150807T230000
DTSTAMP;VALUE=DATE-TIME:20260425T231946Z
UID:d42f38cd542038a99c87f4640477e770
CREATED;VALUE=DATE-TIME:20150807T000000Z
LOCATION:Parròquia Santa Maria
ORGANIZER:Associació Cultural Santa Florentina i Ajuntament de Caldes d'Estrac
COMMENT:Preu: 28 Euros
Durada: El catering començarà a les 20:30h. El concert a les 22h.
DESCRIPTION:Recital de Piano de Vestard Shimkus
URL:https://caldetes.cat/document.php?id=3942
END:VEVENT
END:VCALENDAR