BEGIN:VCALENDAR
VERSION:2.0
PRODID:-//Plone.org//NONSGML plone.app.event//EN
X-WR-TIMEZONE:Europe/Madrid
BEGIN:VEVENT
SUMMARY:Festival de Santa Florentina
DTSTART;TZID=Europe/Madrid;VALUE=DATE-TIME:20150815T220000
DTEND;TZID=Europe/Madrid;VALUE=DATE-TIME:20150815T230000
DTSTAMP;VALUE=DATE-TIME:20260422T230656Z
UID:f3b61449ac3bd7416a567f61e3e6a25e
CREATED;VALUE=DATE-TIME:20150815T000000Z
CATEGORIES:Música
LOCATION:Parc Mossèn Jacint Verdaguer
ORGANIZER:Associació Cultural Santa Florentina i Ajuntament de Caldes d'Estrac
COMMENT:Preu: 39 Euros
Durada: El catering començarà a les 20:30h. El concert a les 22h.
DESCRIPTION:Gala de Tenors
URL:https://caldetes.cat/document.php?id=3944
END:VEVENT
END:VCALENDAR