BEGIN:VCALENDAR
VERSION:2.0
PRODID:-//Plone.org//NONSGML plone.app.event//EN
X-WR-TIMEZONE:Europe/Madrid
BEGIN:VEVENT
SUMMARY:FESTA DEL CARME
DTSTART;TZID=Europe/Madrid;VALUE=DATE-TIME:20150718T193000
DTEND;TZID=Europe/Madrid;VALUE=DATE-TIME:20150718T203000
DTSTAMP;VALUE=DATE-TIME:20260424T085544Z
UID:8e6d28f2192df3e647a116f49d0710ff
CREATED;VALUE=DATE-TIME:20150718T000000Z
CATEGORIES:Música
LOCATION:Capella del Carme
ORGANIZER:Arrels Cultura en col·laboració amb l'Ajuntament de Caldes d'Estrac
COMMENT:Preu: Preu simbòlic de 2 &euro; per persona; infants, entrada gratuïta
DESCRIPTION:Concert Manuel Blancafort
URL:https://caldetes.cat/document.php?id=3954
END:VEVENT
END:VCALENDAR