BEGIN:VCALENDAR
VERSION:2.0
PRODID:-//Plone.org//NONSGML plone.app.event//EN
X-WR-TIMEZONE:Europe/Madrid
BEGIN:VEVENT
SUMMARY:Revetlla de Sant Joan
DTSTART;TZID=Europe/Madrid;VALUE=DATE-TIME:20150623T233000
DTEND;TZID=Europe/Madrid;VALUE=DATE-TIME:20150624T003000
DTSTAMP;VALUE=DATE-TIME:20260421T140139Z
UID:1ce9353b36e22ef4170522a482f208e0
CREATED;VALUE=DATE-TIME:20150623T000000Z
CATEGORIES:Festa
LOCATION:Plajta del Bassiot
ORGANIZER:Espai Jove, Creu Roja i Ajuntament de Caldes d'Estrac
DESCRIPTION:Vine a celebrar Sant Joan a la platja del Bassiot
URL:https://caldetes.cat/document.php?id=3957
END:VEVENT
END:VCALENDAR