BEGIN:VCALENDAR
VERSION:2.0
PRODID:-//Plone.org//NONSGML plone.app.event//EN
X-WR-TIMEZONE:Europe/Madrid
BEGIN:VEVENT
SUMMARY:El Joc Cooperatiu
DTSTART;TZID=Europe/Madrid;VALUE=DATE-TIME:20150708T103000
DTEND;TZID=Europe/Madrid;VALUE=DATE-TIME:20150708T113000
DTSTAMP;VALUE=DATE-TIME:20260423T204937Z
UID:df8dc866eb3e2a440805486ebecb8174
CREATED;VALUE=DATE-TIME:20150708T000000Z
CATEGORIES:Cursos
LOCATION:Casal d'Avis - Agrupació de pensionistes 3ª edat
COMMENT:Preu: Gratuït
Durada: De 10´30 a 12h
DESCRIPTION:A càrrec d'Art i Joc
URL:https://caldetes.cat/document.php?id=3962
END:VEVENT
END:VCALENDAR