BEGIN:VCALENDAR
VERSION:2.0
PRODID:-//Plone.org//NONSGML plone.app.event//EN
X-WR-TIMEZONE:Europe/Madrid
BEGIN:VEVENT
SUMMARY:Presentació llibre "Nepal cerca de las estrellas"
DTSTART;TZID=Europe/Madrid;VALUE=DATE-TIME:20150731T190000
DTEND;TZID=Europe/Madrid;VALUE=DATE-TIME:20150731T200000
DTSTAMP;VALUE=DATE-TIME:20260424T011956Z
UID:11bd33ff312ef313661060f5db234b17
CREATED;VALUE=DATE-TIME:20150731T000000Z
CATEGORIES:Literatura
LOCATION:Biblioteca Can Milans
ORGANIZER:Banc del Temps,Salut i Família i Biblioteca Can Milans
COMMENT:Preu: Gratuït
URL:https://caldetes.cat/document.php?id=3971
END:VEVENT
END:VCALENDAR