BEGIN:VCALENDAR
VERSION:2.0
PRODID:-//Plone.org//NONSGML plone.app.event//EN
X-WR-TIMEZONE:Europe/Madrid
BEGIN:VEVENT
SUMMARY:FESTA DEL CARME
DTSTART;TZID=Europe/Madrid;VALUE=DATE-TIME:20150718T184500
DTEND;TZID=Europe/Madrid;VALUE=DATE-TIME:20150718T194500
DTSTAMP;VALUE=DATE-TIME:20260422T181609Z
UID:cbd2c5a5d6ce36ce0c5edafd46662d41
CREATED;VALUE=DATE-TIME:20150718T000000Z
CATEGORIES:Festa
LOCATION:Parròquia del Carme
ORGANIZER:Arrels Cultura i Ajutament de Caldes d'Estrac
DESCRIPTION:OFRENA FLORAL I MISSA SOLEMENE
URL:https://caldetes.cat/document.php?id=3991
END:VEVENT
END:VCALENDAR