BEGIN:VCALENDAR
VERSION:2.0
PRODID:-//Plone.org//NONSGML plone.app.event//EN
X-WR-TIMEZONE:Europe/Madrid
BEGIN:VEVENT
SUMMARY:FESTA DEL CARME
DTSTART;TZID=Europe/Madrid;VALUE=DATE-TIME:20150719T123000
DTEND;TZID=Europe/Madrid;VALUE=DATE-TIME:20150719T133000
DTSTAMP;VALUE=DATE-TIME:20260424T143522Z
UID:edfd687a8af798b8a7e0ac1e29f8dd77
CREATED;VALUE=DATE-TIME:20150719T000000Z
CATEGORIES:Dansa,Música
LOCATION:pèrgola del parc joan Maragall
ORGANIZER:Arrels Cultura i Ajutament de Caldes d'Estrac
DESCRIPTION:SARDANES Cobla Canigó
URL:https://caldetes.cat/document.php?id=3994
END:VEVENT
END:VCALENDAR