BEGIN:VCALENDAR
VERSION:2.0
PRODID:-//Plone.org//NONSGML plone.app.event//EN
X-WR-TIMEZONE:Europe/Madrid
BEGIN:VEVENT
SUMMARY:Campionat Jove
DTSTART;TZID=Europe/Madrid;VALUE=DATE-TIME:20150716T170000
DTEND;TZID=Europe/Madrid;VALUE=DATE-TIME:20150716T180000
DTSTAMP;VALUE=DATE-TIME:20260424T203133Z
UID:95c45734fe74b7e10432d781ab2ca980
CREATED;VALUE=DATE-TIME:20150716T000000Z
CATEGORIES:Esports
LOCATION:Parc Joan Maragall
ORGANIZER:Ajuntament de Caldes d'Estrac- Espai Jove amb el suport de la Direcció General de Joventut i la Diputació de Barcelona
COMMENT:Preu: Gratuït
Durada: De 17 a 20h
DESCRIPTION:Tennis Taula a la Fresca
URL:https://caldetes.cat/document.php?id=4022
END:VEVENT
END:VCALENDAR