BEGIN:VCALENDAR
VERSION:2.0
PRODID:-//Plone.org//NONSGML plone.app.event//EN
X-WR-TIMEZONE:Europe/Madrid
BEGIN:VEVENT
SUMMARY:Setmana Social. Torneig especial
DTSTART;TZID=Europe/Madrid;VALUE=DATE-TIME:20150806T180000
DTEND;TZID=Europe/Madrid;VALUE=DATE-TIME:20150806T190000
DTSTAMP;VALUE=DATE-TIME:20260423T072319Z
UID:59b2a66351e5faee106b8c780423283f
CREATED;VALUE=DATE-TIME:20150806T000000Z
CATEGORIES:Esports
LOCATION:Pistes Municipals de Petanca
ORGANIZER:Club de Petanca de Caldes d´Estrac en col&bull;laboració amb l´Ajuntament de Caldes d´Estrac.
COMMENT:Preu: 5 euros
Durada: A partir de les 18h
DESCRIPTION:Club de Petanca de Caldes d'Estrac
URL:https://caldetes.cat/document.php?id=4028
END:VEVENT
END:VCALENDAR