BEGIN:VCALENDAR
VERSION:2.0
PRODID:-//Plone.org//NONSGML plone.app.event//EN
X-WR-TIMEZONE:Europe/Madrid
BEGIN:VEVENT
SUMMARY:Festa Major 2015
DTSTART;TZID=Europe/Madrid;VALUE=DATE-TIME:20150829T170000
DTEND;TZID=Europe/Madrid;VALUE=DATE-TIME:20150829T180000
DTSTAMP;VALUE=DATE-TIME:20260424T160833Z
UID:651bb93258f7df1da80aa753c5b1e2ee
CREATED;VALUE=DATE-TIME:20150829T000000Z
CATEGORIES:Esports
LOCATION:Pistes Municipals de Petanca
ORGANIZER:Club de Petanca de Caldes d´Estrac en col&bull;laboració amb l´Ajuntament de Caldes d´Estrac.
COMMENT:Preu: Gratuït
Durada: A partir de les 17h
DESCRIPTION:Torneig infantil de Festa Major. Club de Petanca de Caldes d'Estrac
URL:https://caldetes.cat/document.php?id=4029
END:VEVENT
END:VCALENDAR