BEGIN:VCALENDAR
VERSION:2.0
PRODID:-//Plone.org//NONSGML plone.app.event//EN
X-WR-TIMEZONE:Europe/Madrid
BEGIN:VEVENT
SUMMARY:Sigues solidari i mou-te per la independència!
DTSTART;TZID=Europe/Madrid;VALUE=DATE-TIME:20150814T180000
DTEND;TZID=Europe/Madrid;VALUE=DATE-TIME:20150814T190000
DTSTAMP;VALUE=DATE-TIME:20260425T003054Z
UID:afae8128963f12abde348efbf77111eb
CREATED;VALUE=DATE-TIME:20150814T000000Z
CATEGORIES:Festa
LOCATION:Parc Joan Maragall
ORGANIZER:ANC - Assemblea territorial de Caldes d'Estrac
DESCRIPTION:Masterclass de zumba, Presentació Via Lliure i Recollida solidària d'aliments
URL:https://caldetes.cat/document.php?id=4057
END:VEVENT
END:VCALENDAR