BEGIN:VCALENDAR
VERSION:2.0
PRODID:-//Plone.org//NONSGML plone.app.event//EN
X-WR-TIMEZONE:Europe/Madrid
BEGIN:VEVENT
SUMMARY:Festa Major 2015
DTSTART;TZID=Europe/Madrid;VALUE=DATE-TIME:20150828T180000
DTEND;TZID=Europe/Madrid;VALUE=DATE-TIME:20150828T190000
DTSTAMP;VALUE=DATE-TIME:20260424T112152Z
UID:4bcab43cb93d08f241a55252abac6fe1
CREATED;VALUE=DATE-TIME:20150828T000000Z
CATEGORIES:Esports,Festa
LOCATION:Esplanada Can Muntanyà
ORGANIZER:Àrea d'Esports de l'Ajuntament de Caldes d'Estrac
COMMENT:Durada: A partir de les 18h
DESCRIPTION:Finals del Torneig de Futbol Sala de Festa Major
URL:https://caldetes.cat/document.php?id=4061
END:VEVENT
END:VCALENDAR