BEGIN:VCALENDAR
VERSION:2.0
PRODID:-//Plone.org//NONSGML plone.app.event//EN
X-WR-TIMEZONE:Europe/Madrid
BEGIN:VEVENT
SUMMARY:Taller de Memòria a travès del Joc Cooperatiu
DTSTART;TZID=Europe/Madrid;VALUE=DATE-TIME:20151013T110000
DTEND;TZID=Europe/Madrid;VALUE=DATE-TIME:20151013T120000
DTSTAMP;VALUE=DATE-TIME:20260426T033029Z
UID:b1cfe1adb2bd732bc746f07e5e153e22
CREATED;VALUE=DATE-TIME:20151013T000000Z
CATEGORIES:Cursos
LOCATION:Casal d'Avis - Agrupació de pensionistes 3ª edat
ORGANIZER:Ajuntament de Caldes d'Estrac
COMMENT:Preu: Gratuït
Durada: D'11h a 13h
DESCRIPTION:A càrrec d'Art i Joc
URL:https://caldetes.cat/document.php?id=4065
END:VEVENT
END:VCALENDAR