BEGIN:VCALENDAR
VERSION:2.0
PRODID:-//Plone.org//NONSGML plone.app.event//EN
X-WR-TIMEZONE:Europe/Madrid
BEGIN:VEVENT
SUMMARY:Festa Major 2015
DTSTART;TZID=Europe/Madrid;VALUE=DATE-TIME:20150905T163000
DTEND;TZID=Europe/Madrid;VALUE=DATE-TIME:20150905T173000
DTSTAMP;VALUE=DATE-TIME:20260423T235251Z
UID:90088b00959899ddebad2919f3ecd494
CREATED;VALUE=DATE-TIME:20150905T000000Z
CATEGORIES:Festa
LOCATION:Plaça del Molí
ORGANIZER:Colla de Geganters i Grallers de Caldes d'Estrac
COMMENT:Durada: A partir de les 16:30h
DESCRIPTION:Plantada de Gegants i Cercavila
URL:https://caldetes.cat/document.php?id=4077
END:VEVENT
END:VCALENDAR