BEGIN:VCALENDAR
VERSION:2.0
PRODID:-//Plone.org//NONSGML plone.app.event//EN
X-WR-TIMEZONE:Europe/Madrid
BEGIN:VEVENT
SUMMARY:Festa Major 2015
DTSTART;TZID=Europe/Madrid;VALUE=DATE-TIME:20150908T100000
DTEND;TZID=Europe/Madrid;VALUE=DATE-TIME:20150908T110000
DTSTAMP;VALUE=DATE-TIME:20260423T185715Z
UID:744cd1d0f05a7d443831ad40b5bc80f4
CREATED;VALUE=DATE-TIME:20150908T000000Z
CATEGORIES:Festa
LOCATION:Parròquia Santa Maria i Capelleta del Remei
ORGANIZER:Arrels Cultura i Parròquia de Santa Maria.
COMMENT:Preu: Gratuït
Durada: A partir de les 10h
DESCRIPTION:Mare de Déu del Remei: repicada de campanes, missa solemne concelebrada, ofrena floral i vermut de Festa Major.
URL:https://caldetes.cat/document.php?id=4083
END:VEVENT
END:VCALENDAR