BEGIN:VCALENDAR
VERSION:2.0
PRODID:-//Plone.org//NONSGML plone.app.event//EN
X-WR-TIMEZONE:Europe/Madrid
BEGIN:VEVENT
SUMMARY:Festa Major 2015
DTSTART;TZID=Europe/Madrid;VALUE=DATE-TIME:20150908T180000
DTEND;TZID=Europe/Madrid;VALUE=DATE-TIME:20150908T190000
DTSTAMP;VALUE=DATE-TIME:20260424T111745Z
UID:720f5306a3d91f5670e4790d4abd4e5c
CREATED;VALUE=DATE-TIME:20150908T000000Z
CATEGORIES:Festa,Infantils
LOCATION:Pèrgola del parc joan Maragall
COMMENT:Preu: Gratuït
Durada: A partir de les 18h
DESCRIPTION:Tallers d'Animació Infantil
URL:https://caldetes.cat/document.php?id=4084
END:VEVENT
END:VCALENDAR