BEGIN:VCALENDAR
VERSION:2.0
PRODID:-//Plone.org//NONSGML plone.app.event//EN
X-WR-TIMEZONE:Europe/Madrid
BEGIN:VEVENT
SUMMARY:Festa Major 2015
DTSTART;TZID=Europe/Madrid;VALUE=DATE-TIME:20150911T103000
DTEND;TZID=Europe/Madrid;VALUE=DATE-TIME:20150911T113000
DTSTAMP;VALUE=DATE-TIME:20260423T185745Z
UID:2d43e92d5495348f8a7a79e85b078adf
CREATED;VALUE=DATE-TIME:20150911T000000Z
CATEGORIES:Festa,Infantils
LOCATION:Pèrgola del parc joan Maragall i Mirador "11 de Setembre"
COMMENT:Preu: Gratuït
Durada: A partir de les 10:30h
DESCRIPTION:Diada Nacional de Catalunya
URL:https://caldetes.cat/document.php?id=4085
END:VEVENT
END:VCALENDAR