BEGIN:VCALENDAR
VERSION:2.0
PRODID:-//Plone.org//NONSGML plone.app.event//EN
X-WR-TIMEZONE:Europe/Madrid
BEGIN:VEVENT
SUMMARY:II Trobada solidària de Clàssics
DTSTART;TZID=Europe/Madrid;VALUE=DATE-TIME:20150919T090000
DTEND;TZID=Europe/Madrid;VALUE=DATE-TIME:20150919T100000
DTSTAMP;VALUE=DATE-TIME:20260424T145007Z
UID:93b1388138e3232247f6843db1e95712
CREATED;VALUE=DATE-TIME:20150919T000000Z
CATEGORIES:Mostra
LOCATION:Esplanada Can Muntanyà
COMMENT:Durada: De 9 a 18h
DESCRIPTION:A benefici de la Fundació Clarós
URL:https://caldetes.cat/document.php?id=4087
END:VEVENT
END:VCALENDAR