BEGIN:VCALENDAR
VERSION:2.0
PRODID:-//Plone.org//NONSGML plone.app.event//EN
X-WR-TIMEZONE:Europe/Madrid
BEGIN:VEVENT
SUMMARY:Fira d'Alimentació i Artesans - Fira de Dibuix i Pintura
DTSTART;TZID=Europe/Madrid;VALUE=DATE-TIME:20150823T100000
DTEND;TZID=Europe/Madrid;VALUE=DATE-TIME:20150823T110000
DTSTAMP;VALUE=DATE-TIME:20260423T204823Z
UID:ac9513c9052f2b960aeeddc2ae1229a8
CREATED;VALUE=DATE-TIME:20150823T000000Z
CATEGORIES:Mostra
LOCATION:Al Parc Joan Maragall i a la façana marítima
ORGANIZER:Arrels Cultura en col·laboració amb l'Ajuntament de Caldes d'Estrac
COMMENT:Preu: Gratuït
Durada: De 10h a 22h
DESCRIPTION:Al Parc Joan Maragall i a la façana marítima
URL:https://caldetes.cat/document.php?id=4088
END:VEVENT
END:VCALENDAR