BEGIN:VCALENDAR
VERSION:2.0
PRODID:-//Plone.org//NONSGML plone.app.event//EN
X-WR-TIMEZONE:Europe/Madrid
BEGIN:VEVENT
SUMMARY:Reunió d'Inici de Curs
DTSTART;TZID=Europe/Madrid;VALUE=DATE-TIME:20150907T163000
DTEND;TZID=Europe/Madrid;VALUE=DATE-TIME:20150907T173000
DTSTAMP;VALUE=DATE-TIME:20260426T060714Z
UID:39ce5b970aa4d02347295616d0f3adaa
CREATED;VALUE=DATE-TIME:20150907T000000Z
LOCATION:Escola Sagrada Família
ORGANIZER:Escola Sagrada Família
DESCRIPTION:Escola Sagrada Família
URL:https://caldetes.cat/document.php?id=4097
END:VEVENT
END:VCALENDAR