BEGIN:VCALENDAR
VERSION:2.0
PRODID:-//Plone.org//NONSGML plone.app.event//EN
X-WR-TIMEZONE:Europe/Madrid
BEGIN:VEVENT
SUMMARY:Zumba infantil
DTSTART;TZID=Europe/Madrid;VALUE=DATE-TIME:20150901T170000
DTEND;TZID=Europe/Madrid;VALUE=DATE-TIME:20150901T180000
DTSTAMP;VALUE=DATE-TIME:20260422T230807Z
UID:cb770e822b0d03bcb4ac4035273c42fe
CREATED;VALUE=DATE-TIME:20150901T000000Z
CATEGORIES:Esports,Dansa,Infantils
LOCATION:Complex Esportiu Municipal
ORGANIZER:Sige Sport Caldetes, Club Esportiu Sistrells
COMMENT:Durada: Fins al 30 de juny de 2016
DESCRIPTION:Extraescolars curs 2015-16
URL:https://caldetes.cat/document.php?id=4105
END:VEVENT
END:VCALENDAR