BEGIN:VCALENDAR
VERSION:2.0
PRODID:-//Plone.org//NONSGML plone.app.event//EN
X-WR-TIMEZONE:Europe/Madrid
BEGIN:VEVENT
SUMMARY:Hora del conte: "Contes i cançons de la tardor"
DTSTART;TZID=Europe/Madrid;VALUE=DATE-TIME:20151002T180000
DTEND;TZID=Europe/Madrid;VALUE=DATE-TIME:20151002T190000
DTSTAMP;VALUE=DATE-TIME:20260425T231253Z
UID:764fdeb9d8c12b4f658782b084b68798
CREATED;VALUE=DATE-TIME:20151002T000000Z
CATEGORIES:Literatura,Infantils
LOCATION:Biblioteca Can Milans
ORGANIZER:Biblioteca Can Milans
DESCRIPTION:A càrrec d' Elena Codó
URL:https://caldetes.cat/document.php?id=4160
END:VEVENT
END:VCALENDAR