BEGIN:VCALENDAR
VERSION:2.0
PRODID:-//Plone.org//NONSGML plone.app.event//EN
X-WR-TIMEZONE:Europe/Madrid
BEGIN:VEVENT
SUMMARY:Xerrada col·loqui: "L'envelliment, què passa amb les persones grans"
DTSTART;TZID=Europe/Madrid;VALUE=DATE-TIME:20151023T173000
DTEND;TZID=Europe/Madrid;VALUE=DATE-TIME:20151023T183000
DTSTAMP;VALUE=DATE-TIME:20260426T050302Z
UID:3e10c63317ef6c50241f5f7f28c6814a
CREATED;VALUE=DATE-TIME:20151023T000000Z
CATEGORIES:Conferència
LOCATION:Biblioteca Can Milans
ORGANIZER:Biblioteca Can Milans
DESCRIPTION:A càrrec de Lluïsa Fernández.
URL:https://caldetes.cat/document.php?id=4164
END:VEVENT
END:VCALENDAR