BEGIN:VCALENDAR
VERSION:2.0
PRODID:-//Plone.org//NONSGML plone.app.event//EN
X-WR-TIMEZONE:Europe/Madrid
BEGIN:VEVENT
SUMMARY:Exposició Jordi Pagès
DTSTART;TZID=Europe/Madrid;VALUE=DATE-TIME:20151003T123000
DTEND;TZID=Europe/Madrid;VALUE=DATE-TIME:20151003T133000
DTSTAMP;VALUE=DATE-TIME:20260424T024222Z
UID:763102fae3fc511ed9e27c7eb8cc3468
CREATED;VALUE=DATE-TIME:20151003T000000Z
CATEGORIES:Exposició
LOCATION:L'Equipament (La Fabriqueta)
ORGANIZER:Ajuntament de Caldes d'Estrac
COMMENT:Preu: Gratuït
Durada: Del 3 d'octubre al 29 d'octubre. Horari: DV (17-20h); DS (11-14h// 17-20h); DG (11-14h)
DESCRIPTION:"Atzar Atzur"- Exposició Vigent fins el 29 d'octubre
URL:https://caldetes.cat/document.php?id=4165
END:VEVENT
END:VCALENDAR