BEGIN:VCALENDAR
VERSION:2.0
PRODID:-//Plone.org//NONSGML plone.app.event//EN
X-WR-TIMEZONE:Europe/Madrid
BEGIN:VEVENT
SUMMARY:V FIRA ANIMAL NATURAL
DTSTART;TZID=Europe/Madrid;VALUE=DATE-TIME:20151011T100000
DTEND;TZID=Europe/Madrid;VALUE=DATE-TIME:20151011T110000
DTSTAMP;VALUE=DATE-TIME:20260424T143507Z
UID:fcd0576d4084fb9767646b2d4d0f5c03
CREATED;VALUE=DATE-TIME:20151011T000000Z
CATEGORIES:Mostra
LOCATION:Esplanada Can Muntanyà
ORGANIZER:A.P.U.A.D.
COMMENT:Preu: LLIURE
Durada: fins les 20:00
DESCRIPTION:A càrrec d'APUAD
URL:https://caldetes.cat/document.php?id=4171
END:VEVENT
END:VCALENDAR