BEGIN:VCALENDAR
VERSION:2.0
PRODID:-//Plone.org//NONSGML plone.app.event//EN
X-WR-TIMEZONE:Europe/Madrid
BEGIN:VEVENT
SUMMARY:Maquilla't de Halloween a la biblioteca!
DTSTART;TZID=Europe/Madrid;VALUE=DATE-TIME:20151030T180000
DTEND;TZID=Europe/Madrid;VALUE=DATE-TIME:20151030T190000
DTSTAMP;VALUE=DATE-TIME:20260425T181458Z
UID:634fd892dbd319911eaf7992189e0667
CREATED;VALUE=DATE-TIME:20151030T000000Z
CATEGORIES:Festa
LOCATION:Biblioteca Can Milans
ORGANIZER:Biblioteca Can Milans
COMMENT:Durada: De 6 a 8 de la tarda
DESCRIPTION:Vine a agafar un llibre terrorífic i et maquillarem de Halloween...
URL:https://caldetes.cat/document.php?id=4173
END:VEVENT
END:VCALENDAR