BEGIN:VCALENDAR
VERSION:2.0
PRODID:-//Plone.org//NONSGML plone.app.event//EN
X-WR-TIMEZONE:Europe/Madrid
BEGIN:VEVENT
SUMMARY:Ja es Nadal!
DTSTART;TZID=Europe/Madrid;VALUE=DATE-TIME:20151227T120000
DTEND;TZID=Europe/Madrid;VALUE=DATE-TIME:20151227T130000
DTSTAMP;VALUE=DATE-TIME:20260426T062708Z
UID:1c2b199e175393cf2c5eccfa4aa1498a
CREATED;VALUE=DATE-TIME:20151227T000000Z
CATEGORIES:Infantils
LOCATION:Fundació Palau
ORGANIZER:Fundació Palau i Ajuntament de Caldes d'Estrac
COMMENT:Preu: 3 euros per persona
DESCRIPTION:Activitat familiar de Nadal
URL:https://caldetes.cat/document.php?id=4184
END:VEVENT
END:VCALENDAR