BEGIN:VCALENDAR
VERSION:2.0
PRODID:-//Plone.org//NONSGML plone.app.event//EN
X-WR-TIMEZONE:Europe/Madrid
BEGIN:VEVENT
SUMMARY:Curs d'iniciació al Català
DTSTART;TZID=Europe/Madrid;VALUE=DATE-TIME:20151015T180000
DTEND;TZID=Europe/Madrid;VALUE=DATE-TIME:20151015T190000
DTSTAMP;VALUE=DATE-TIME:20260425T230755Z
UID:7ad5579ecc7815924ef6285cfb2d4e22
CREATED;VALUE=DATE-TIME:20151015T000000Z
CATEGORIES:Cursos
LOCATION:L'Equipament (La Fabriqueta)
ORGANIZER:Ajuntament de Caldes i Diputació de Barcelona
COMMENT:Preu: gratuït
Durada: Fins el 30 de novembre
URL:https://caldetes.cat/document.php?id=4202
END:VEVENT
END:VCALENDAR