BEGIN:VCALENDAR
VERSION:2.0
PRODID:-//Plone.org//NONSGML plone.app.event//EN
X-WR-TIMEZONE:Europe/Madrid
BEGIN:VEVENT
SUMMARY:Curs d'iniciació al Català
DTSTART;TZID=Europe/Madrid;VALUE=DATE-TIME:20151102T180000
DTEND;TZID=Europe/Madrid;VALUE=DATE-TIME:20151102T190000
DTSTAMP;VALUE=DATE-TIME:20260426T020444Z
UID:32049ad7c4b9cb6212129cf350403a7b
CREATED;VALUE=DATE-TIME:20151102T000000Z
CATEGORIES:Cursos
LOCATION:L'Equipament (La Fabriqueta)
ORGANIZER:Ajuntament de Caldes i Diputació de Barcelona
COMMENT:Preu: gratuït
Durada: Fins el 30 de novembre
URL:https://caldetes.cat/document.php?id=4207
END:VEVENT
END:VCALENDAR