BEGIN:VCALENDAR
VERSION:2.0
PRODID:-//Plone.org//NONSGML plone.app.event//EN
X-WR-TIMEZONE:Europe/Madrid
BEGIN:VEVENT
SUMMARY:Curs d'iniciació al Català
DTSTART;TZID=Europe/Madrid;VALUE=DATE-TIME:20151105T180000
DTEND;TZID=Europe/Madrid;VALUE=DATE-TIME:20151105T190000
DTSTAMP;VALUE=DATE-TIME:20260425T003010Z
UID:889273785bc0c1a2c2e7f0a3c1fd0f7e
CREATED;VALUE=DATE-TIME:20151105T000000Z
CATEGORIES:Cursos
LOCATION:L'Equipament (La Fabriqueta)
ORGANIZER:Ajuntament de Caldes i Diputació de Barcelona
COMMENT:Preu: gratuït
Durada: Fins el 30 de novembre
URL:https://caldetes.cat/document.php?id=4208
END:VEVENT
END:VCALENDAR