BEGIN:VCALENDAR
VERSION:2.0
PRODID:-//Plone.org//NONSGML plone.app.event//EN
X-WR-TIMEZONE:Europe/Madrid
BEGIN:VEVENT
SUMMARY:Curs d'iniciació al Català
DTSTART;TZID=Europe/Madrid;VALUE=DATE-TIME:20151112T180000
DTEND;TZID=Europe/Madrid;VALUE=DATE-TIME:20151112T190000
DTSTAMP;VALUE=DATE-TIME:20260425T054105Z
UID:8d6cf125ea1746cb2bafa7765974b6bd
CREATED;VALUE=DATE-TIME:20151112T000000Z
CATEGORIES:Cursos
LOCATION:L'Equipament (La Fabriqueta)
ORGANIZER:Ajuntament de Caldes i Diputació de Barcelona
COMMENT:Preu: gratuït
Durada: Fins el 30 de novembre
URL:https://caldetes.cat/document.php?id=4210
END:VEVENT
END:VCALENDAR