BEGIN:VCALENDAR
VERSION:2.0
PRODID:-//Plone.org//NONSGML plone.app.event//EN
X-WR-TIMEZONE:Europe/Madrid
BEGIN:VEVENT
SUMMARY:Curs d'iniciació al Català
DTSTART;TZID=Europe/Madrid;VALUE=DATE-TIME:20151126T180000
DTEND;TZID=Europe/Madrid;VALUE=DATE-TIME:20151126T190000
DTSTAMP;VALUE=DATE-TIME:20260426T012714Z
UID:b89c170f7f6b565b728fea7f940cfcf6
CREATED;VALUE=DATE-TIME:20151126T000000Z
CATEGORIES:Cursos
LOCATION:L'Equipament (La Fabriqueta)
ORGANIZER:Ajuntament de Caldes i Diputació de Barcelona
COMMENT:Preu: gratuït
Durada: Fins el 30 de novembre
URL:https://caldetes.cat/document.php?id=4214
END:VEVENT
END:VCALENDAR