BEGIN:VCALENDAR
VERSION:2.0
PRODID:-//Plone.org//NONSGML plone.app.event//EN
X-WR-TIMEZONE:Europe/Madrid
BEGIN:VEVENT
SUMMARY:Concentració davant l'Ajuntament per donar suport als imputats pel 9N
DTSTART;TZID=Europe/Madrid;VALUE=DATE-TIME:20151013T193000
DTEND;TZID=Europe/Madrid;VALUE=DATE-TIME:20151013T203000
DTSTAMP;VALUE=DATE-TIME:20260424T200200Z
UID:2ddce34471ebcf0bc40e115ec64658c3
CREATED;VALUE=DATE-TIME:20151013T000000Z
DESCRIPTION:Caldes d'Estrac s'uneix a la convocatòria de l'ACN, l'AMI i Òmnium
URL:https://caldetes.cat/document.php?id=4228
END:VEVENT
END:VCALENDAR