BEGIN:VCALENDAR
VERSION:2.0
PRODID:-//Plone.org//NONSGML plone.app.event//EN
X-WR-TIMEZONE:Europe/Madrid
BEGIN:VEVENT
SUMMARY:Homenatge a Lluís Companys
DTSTART;TZID=Europe/Madrid;VALUE=DATE-TIME:20151015T200000
DTEND;TZID=Europe/Madrid;VALUE=DATE-TIME:20151015T210000
DTSTAMP;VALUE=DATE-TIME:20260425T231525Z
UID:5292098f1191dc99763fa03f2e4496dd
CREATED;VALUE=DATE-TIME:20151015T000000Z
LOCATION:Monument Lluís Companys, davant del cementiri
DESCRIPTION:75è aniversari de l'afusellament del president Companys
URL:https://caldetes.cat/document.php?id=4230
END:VEVENT
END:VCALENDAR