BEGIN:VCALENDAR
VERSION:2.0
PRODID:-//Plone.org//NONSGML plone.app.event//EN
X-WR-TIMEZONE:Europe/Madrid
BEGIN:VEVENT
SUMMARY:Entrenaments de la Federació Catalana de Futbol Sala
DTSTART;TZID=Europe/Madrid;VALUE=DATE-TIME:20151108T150000
DTEND;TZID=Europe/Madrid;VALUE=DATE-TIME:20151108T160000
DTSTAMP;VALUE=DATE-TIME:20260424T210459Z
UID:9d5c7177be2bc94a0c0b4e3f03024512
CREATED;VALUE=DATE-TIME:20151108T000000Z
CATEGORIES:Esports
LOCATION:Pavelló Poliesportiu Municipal
COMMENT:Preu: Gratuït
Durada: De 15h a 21h
DESCRIPTION:Selecció Comarcal del Maresme
URL:https://caldetes.cat/document.php?id=4241
END:VEVENT
END:VCALENDAR