BEGIN:VCALENDAR
VERSION:2.0
PRODID:-//Plone.org//NONSGML plone.app.event//EN
X-WR-TIMEZONE:Europe/Madrid
BEGIN:VEVENT
SUMMARY:Entrenaments de la Federació Catalana de Futbol Sala
DTSTART;TZID=Europe/Madrid;VALUE=DATE-TIME:20151122T150000
DTEND;TZID=Europe/Madrid;VALUE=DATE-TIME:20151122T160000
DTSTAMP;VALUE=DATE-TIME:20260425T132343Z
UID:bea132e57bdb36bc0216481cb0ab3a93
CREATED;VALUE=DATE-TIME:20151122T000000Z
CATEGORIES:Esports
LOCATION:Pavelló Poliesportiu Municipal
COMMENT:Preu: Gratuït
Durada: De 15h a 21h
DESCRIPTION:Selecció Comarcal del Maresme
URL:https://caldetes.cat/document.php?id=4242
END:VEVENT
END:VCALENDAR