BEGIN:VCALENDAR
VERSION:2.0
PRODID:-//Plone.org//NONSGML plone.app.event//EN
X-WR-TIMEZONE:Europe/Madrid
BEGIN:VEVENT
SUMMARY:Trobada Anual de Monitors i Monitores de Lleure
DTSTART;TZID=Europe/Madrid;VALUE=DATE-TIME:20151114T150000
DTEND;TZID=Europe/Madrid;VALUE=DATE-TIME:20151114T160000
DTSTAMP;VALUE=DATE-TIME:20260425T230710Z
UID:e5627dcd854b5978e855cf0ee9b6077a
CREATED;VALUE=DATE-TIME:20151114T000000Z
CATEGORIES:Esports,Festa,Cursos,Música
LOCATION:Pavelló Poliesportiu Municipal
ORGANIZER:Àrea de Joventut i Fundació ESPLAC
COMMENT:Durada: 14 i 15 de novembre de 2015
DESCRIPTION:Trobada del Sector Barcelona de la Fundació Esplais Catalans (ESPLAC)
URL:https://caldetes.cat/document.php?id=4248
END:VEVENT
END:VCALENDAR