BEGIN:VCALENDAR
VERSION:2.0
PRODID:-//Plone.org//NONSGML plone.app.event//EN
X-WR-TIMEZONE:Europe/Madrid
BEGIN:VEVENT
SUMMARY:Gran Recapte d'Aliments
DTSTART;TZID=Europe/Madrid;VALUE=DATE-TIME:20151128T090000
DTEND;TZID=Europe/Madrid;VALUE=DATE-TIME:20151128T100000
DTSTAMP;VALUE=DATE-TIME:20260425T173534Z
UID:9342f1e6d040062da1c6f20258d983c7
CREATED;VALUE=DATE-TIME:20151128T000000Z
LOCATION:Davant del Mercat Municipal
ORGANIZER:Ajuntament de Caldes d'Estrac en col·laboració amb la Creu Roja
COMMENT:Durada: De 9 a 13h
DESCRIPTION:Punt de recollida al Mercat Municipal
URL:https://caldetes.cat/document.php?id=4314
END:VEVENT
END:VCALENDAR