BEGIN:VCALENDAR
VERSION:2.0
PRODID:-//Plone.org//NONSGML plone.app.event//EN
X-WR-TIMEZONE:Europe/Madrid
BEGIN:VEVENT
SUMMARY:Hora del conte: "Contes il·luminats"
DTSTART;TZID=Europe/Madrid;VALUE=DATE-TIME:20150304T180000
DTEND;TZID=Europe/Madrid;VALUE=DATE-TIME:20150304T190000
DTSTAMP;VALUE=DATE-TIME:20260422T072310Z
UID:63bba304a6f5402f8449bf752274c57c
CREATED;VALUE=DATE-TIME:20150304T000000Z
CATEGORIES:Literatura,Infantils
LOCATION:Biblioteca Can Milans
ORGANIZER:Biblioteca Can Milans
DESCRIPTION:A càrrec d'Ulldistret
URL:https://caldetes.cat/document.php?id=4360
END:VEVENT
END:VCALENDAR